BEGIN:VCALENDAR
VERSION:2.0
PRODID:-//Conest Software Systems - ECPv6.15.20//NONSGML v1.0//EN
CALSCALE:GREGORIAN
METHOD:PUBLISH
X-ORIGINAL-URL:https://conest.com
X-WR-CALDESC:Events for Conest Software Systems
REFRESH-INTERVAL;VALUE=DURATION:PT1H
X-Robots-Tag:noindex
X-PUBLISHED-TTL:PT1H
BEGIN:VTIMEZONE
TZID:America/New_York
BEGIN:DAYLIGHT
TZOFFSETFROM:-0500
TZOFFSETTO:-0400
TZNAME:EDT
DTSTART:20220313T070000
END:DAYLIGHT
BEGIN:STANDARD
TZOFFSETFROM:-0400
TZOFFSETTO:-0500
TZNAME:EST
DTSTART:20221106T060000
END:STANDARD
BEGIN:DAYLIGHT
TZOFFSETFROM:-0500
TZOFFSETTO:-0400
TZNAME:EDT
DTSTART:20230312T070000
END:DAYLIGHT
BEGIN:STANDARD
TZOFFSETFROM:-0400
TZOFFSETTO:-0500
TZNAME:EST
DTSTART:20231105T060000
END:STANDARD
BEGIN:DAYLIGHT
TZOFFSETFROM:-0500
TZOFFSETTO:-0400
TZNAME:EDT
DTSTART:20240310T070000
END:DAYLIGHT
BEGIN:STANDARD
TZOFFSETFROM:-0400
TZOFFSETTO:-0500
TZNAME:EST
DTSTART:20241103T060000
END:STANDARD
END:VTIMEZONE
BEGIN:VEVENT
DTSTART;TZID=America/New_York:20230912T100000
DTEND;TZID=America/New_York:20230913T170000
DTSTAMP:20260420T133945
CREATED:20230801T152031Z
LAST-MODIFIED:20230911T152930Z
UID:10000049-1694512800-1694624400@conest.com
SUMMARY:Level 100: IntelliBid Basic Virtual Classroom Training - September 12 & 13\, 2023
DESCRIPTION:Level 100: IntelliBid Basic Training\n2 Day Class: $1075.00\nLearn the fundamentals of using IntelliBid to produce a complete and comprehensive estimate. In this class you will learn how to work with IntelliBid’s Phase Tree to easily set up project breakdowns and how using Job Spec will speed the estimating process by letting IntelliBid choose the specified material for you. Working with quotes will also be detailed through all aspects of bid closing using Bid Recap. Key features and functions of the software that will be covered in this class include: \n\nInitial Setup\nJob Registration\nJournal Messaging\nPhase Tree\nJob Spec\nTakeoff\nSpecial Items\nLabor Factoring\nSummary\nMaterial Price Updating\nBid Recap\nBid Proposals\nJob Info\nReports\n\n \n \n*CLASS IS FULL
URL:https://conest.com/event/l-100-intellibid-basic-virtual-classroom-training-sept-12-13-2023/
CATEGORIES:Classroom Training
END:VEVENT
BEGIN:VEVENT
DTSTART;TZID=America/New_York:20230926T100000
DTEND;TZID=America/New_York:20230927T170000
DTSTAMP:20260420T133945
CREATED:20230801T152425Z
LAST-MODIFIED:20230815T210019Z
UID:10000050-1695722400-1695834000@conest.com
SUMMARY:Level 100: IntelliBid Basic Virtual Classroom Training - September 26 & 27\, 2023
DESCRIPTION:Level 100: IntelliBid Basic Training\n2 Day Class: $1075.00\nLearn the fundamentals of using IntelliBid to produce a complete and comprehensive estimate. In this class you will learn how to work with IntelliBid’s Phase Tree to easily set up project breakdowns and how using Job Spec will speed the estimating process by letting IntelliBid choose the specified material for you. Working with quotes will also be detailed through all aspects of bid closing using Bid Recap. Key features and functions of the software that will be covered in this class include: \n\nInitial Setup\nJob Registration\nJournal Messaging\nPhase Tree\nJob Spec\nTakeoff\nSpecial Items\nLabor Factoring\nSummary\nMaterial Price Updating\nBid Recap\nBid Proposals\nJob Info\nReports
URL:https://conest.com/event/l-100-intellibid-basic-virtual-classroom-training-sept-26-27-2023/
CATEGORIES:Classroom Training
END:VEVENT
BEGIN:VEVENT
DTSTART;VALUE=DATE:20230930
DTEND;VALUE=DATE:20231003
DTSTAMP:20260420T133945
CREATED:20230907T123226Z
LAST-MODIFIED:20230922T193719Z
UID:10000053-1696032000-1696291199@conest.com
SUMMARY:NECA 2023
DESCRIPTION:Conest Software Systems is exhibiting at NECA 2023 at Booth #2412! \nThe NECA Show puts you face-to-face with manufacturer execs so you can discuss your specific needs for the jobsite\, shop\, or office. Our goal is to provide the products and services electrical professionals need to stay competitive in the marketplace. \nThe NECA Show floor is an interactive classroom. This is the place to test new products and learn about solutions that will drive efficiencies and better results. \nKey Show Information\n\nConest Booth: #2412\nKey Dates: Sept. 29 – Oct. 2\, 2023\nLocation: Pennsylvania Convention Center; 1101 Arch St\, Philadelphia\, PA 19107\n\nNECA Show Hours\n\nSaturday\, September 30: 11:30 a.m – 5 p.m.\nSunday\, October 1: 11:30 a.m. – 4:00 p.m.\nMonday\, October 2: 9:00 a.m. – 1:00 p.m.\n\nRegister Now
URL:https://conest.com/event/neca-2023/
CATEGORIES:Trade Show
ATTACH;FMTTYPE=image/jpeg:https://conest.com/wp-content/uploads/2023/09/NECA-2023.jpg
END:VEVENT
END:VCALENDAR