BEGIN:VCALENDAR
VERSION:2.0
PRODID:-//Conest Software Systems - ECPv6.15.20//NONSGML v1.0//EN
CALSCALE:GREGORIAN
METHOD:PUBLISH
X-WR-CALNAME:Conest Software Systems
X-ORIGINAL-URL:https://conest.com
X-WR-CALDESC:Events for Conest Software Systems
REFRESH-INTERVAL;VALUE=DURATION:PT1H
X-Robots-Tag:noindex
X-PUBLISHED-TTL:PT1H
BEGIN:VTIMEZONE
TZID:America/New_York
BEGIN:DAYLIGHT
TZOFFSETFROM:-0500
TZOFFSETTO:-0400
TZNAME:EDT
DTSTART:20220313T070000
END:DAYLIGHT
BEGIN:STANDARD
TZOFFSETFROM:-0400
TZOFFSETTO:-0500
TZNAME:EST
DTSTART:20221106T060000
END:STANDARD
BEGIN:DAYLIGHT
TZOFFSETFROM:-0500
TZOFFSETTO:-0400
TZNAME:EDT
DTSTART:20230312T070000
END:DAYLIGHT
BEGIN:STANDARD
TZOFFSETFROM:-0400
TZOFFSETTO:-0500
TZNAME:EST
DTSTART:20231105T060000
END:STANDARD
BEGIN:DAYLIGHT
TZOFFSETFROM:-0500
TZOFFSETTO:-0400
TZNAME:EDT
DTSTART:20240310T070000
END:DAYLIGHT
BEGIN:STANDARD
TZOFFSETFROM:-0400
TZOFFSETTO:-0500
TZNAME:EST
DTSTART:20241103T060000
END:STANDARD
END:VTIMEZONE
BEGIN:VEVENT
DTSTART;VALUE=DATE:20231016
DTEND;VALUE=DATE:20231019
DTSTAMP:20260420T133651
CREATED:20230907T123517Z
LAST-MODIFIED:20230908T154402Z
UID:10000054-1697414400-1697673599@conest.com
SUMMARY:IEC SPARK 2023
DESCRIPTION:At IEC SPARK\, you’ll have the opportunity to attend innovative educational seminars\, visit the state-of-the-art Expo Hall\, listen to special guest speakers\, and attend numerous networking events. The exciting schedule will provide plenty of time to get to know electrical industry professionals from around the country who represent a broad range of organizations\, skill sets\, industries\, experience levels\, and interests. \nKey Show Information\n\nConest Booth: #1400\nKey Dates: Oct. 16 – 18\, 2023\nLocation: Kay Bailey Hutchison Convention Center Dallas; 650 S Griffin St\, Dallas\, TX 75202\n\nIEC Spark 2023 Show Hours\n\nMonday\, October 16: 12:30 p.m – 6 p.m.\nTuesday\, October 17: 10:00 a.m. – 4:00 p.m.\nWednesday\, October 18: 9:00 a.m. – 12:30 p.m.\n\nRegister Now
URL:https://conest.com/event/iec-spark-2023/
CATEGORIES:Trade Show
ATTACH;FMTTYPE=image/jpeg:https://conest.com/wp-content/uploads/2023/09/IEC-Spark-2023.jpg
END:VEVENT
END:VCALENDAR